BEGIN:VCALENDAR
VERSION:2.0
PRODID:-//wp-events-plugin.com//6.6.1//EN
BEGIN:VEVENT
UID:9@jakconsultant.com
DTSTART:20240210T170000Z
DTEND:20240229T180000Z
DTSTAMP:20240207T122305Z
URL:https://www.jakconsultant.com/events/leadership-hour-with-jak-consult/
SUMMARY:Leadership Hour with JAK Consult
DESCRIPTION:Leadership Hour online conference with JAK Consult on the topic
  "Leading without Title
ATTACH;FMTTYPE=image/jpeg:https://www.jakconsultant.com/wp-content/uploads
 /2024/02/leadership.jpg
LOCATION:https://meet.google.com
END:VEVENT
END:VCALENDAR